BEGIN:VCALENDAR
VERSION:2.0
PRODID:-//LM Holstebro - ECPv6.0.6.2//NONSGML v1.0//EN
CALSCALE:GREGORIAN
METHOD:PUBLISH
X-WR-CALNAME:LM Holstebro
X-ORIGINAL-URL:https://www.holstebro-lm.dk
X-WR-CALDESC:Events for LM Holstebro
REFRESH-INTERVAL;VALUE=DURATION:PT1H
X-Robots-Tag:noindex
X-PUBLISHED-TTL:PT1H
BEGIN:VTIMEZONE
TZID:UTC
BEGIN:STANDARD
TZOFFSETFROM:+0000
TZOFFSETTO:+0000
TZNAME:UTC
DTSTART:20230101T000000
END:STANDARD
END:VTIMEZONE
BEGIN:VEVENT
DTSTART;TZID=UTC:20230313T160000
DTEND;TZID=UTC:20230313T171500
DTSTAMP:20260423T215842
CREATED:20230220T104707Z
LAST-MODIFIED:20230306T110526Z
UID:23597-1678723200-1678727700@www.holstebro-lm.dk
SUMMARY:Børnetræf: Påskespil
DESCRIPTION:
URL:https://www.holstebro-lm.dk/event/boernetraef-paaskespil/
CATEGORIES:Børnetræf
END:VEVENT
END:VCALENDAR