BEGIN:VCALENDAR
VERSION:2.0
PRODID:-//LM Holstebro - ECPv6.0.6.2//NONSGML v1.0//EN
CALSCALE:GREGORIAN
METHOD:PUBLISH
X-ORIGINAL-URL:https://www.holstebro-lm.dk
X-WR-CALDESC:Events for LM Holstebro
REFRESH-INTERVAL;VALUE=DURATION:PT1H
X-Robots-Tag:noindex
X-PUBLISHED-TTL:PT1H
BEGIN:VTIMEZONE
TZID:UTC
BEGIN:STANDARD
TZOFFSETFROM:+0000
TZOFFSETTO:+0000
TZNAME:UTC
DTSTART:20260101T000000
END:STANDARD
END:VTIMEZONE
BEGIN:VEVENT
DTSTART;TZID=UTC:20260215T100000
DTEND;TZID=UTC:20260215T130000
DTSTAMP:20260421T124715
CREATED:20251208T080011Z
LAST-MODIFIED:20251208T080011Z
UID:25132-1771149600-1771160400@www.holstebro-lm.dk
SUMMARY:LM-Kirken v. Lennart Refslund-Nørgaard
DESCRIPTION:
URL:https://www.holstebro-lm.dk/event/lm-kirken-v-lennart-refslund-noergaard/
END:VEVENT
END:VCALENDAR