BEGIN:VCALENDAR
VERSION:2.0
PRODID:-//LM Holstebro - ECPv6.0.6.2//NONSGML v1.0//EN
CALSCALE:GREGORIAN
METHOD:PUBLISH
X-ORIGINAL-URL:https://www.holstebro-lm.dk
X-WR-CALDESC:Events for LM Holstebro
REFRESH-INTERVAL;VALUE=DURATION:PT1H
X-Robots-Tag:noindex
X-PUBLISHED-TTL:PT1H
BEGIN:VTIMEZONE
TZID:UTC
BEGIN:STANDARD
TZOFFSETFROM:+0000
TZOFFSETTO:+0000
TZNAME:UTC
DTSTART:20260101T000000
END:STANDARD
END:VTIMEZONE
BEGIN:VEVENT
DTSTART;TZID=UTC:20260203T143000
DTEND;TZID=UTC:20260203T170000
DTSTAMP:20260422T080006
CREATED:20251208T075554Z
LAST-MODIFIED:20251208T075554Z
UID:25124-1770129000-1770138000@www.holstebro-lm.dk
SUMMARY:Seniormøde v. Bjarne Hvidbjerg
DESCRIPTION:Emne “Glimt fra mit liv i tjenesten” + andagt.
URL:https://www.holstebro-lm.dk/event/seniormoede-v-bjarne-hvidbjerg/
END:VEVENT
END:VCALENDAR